BEGIN:VCALENDAR
VERSION:2.0
PRODID:-//hacksw/handcal//NONSGML v1.0//EN
BEGIN:VEVENT
DTSTAMP:20160213T083000Z
DTSTART:20160213T083000Z
DTEND:20160213T083000Z
LOCATION:Wochenmarkt vor dem Fahrradladen Bennewitz, Heiligenhafen, Deutschland
SUMMARY:Der Kandidat stellt sich
END:VEVENT
END:VCALENDAR
