BEGIN:VCALENDAR
VERSION:2.0
PRODID:-//hacksw/handcal//NONSGML v1.0//EN
BEGIN:VEVENT
DTSTAMP:20160117T100000Z
DTSTART:20160117T100000Z
DTEND:20160117T100000Z
LOCATION:Veranstaltungspavillon Ferienzentrum , Heiligenhafen, Deutschland
SUMMARY:Neujahrsempfang der CDU Heiligenhafen
END:VEVENT
END:VCALENDAR
