BEGIN:VCALENDAR
VERSION:2.0
PRODID:-//hacksw/handcal//NONSGML v1.0//EN
BEGIN:VEVENT
DTSTAMP:20150511T170000Z
DTSTART:20150511T170000Z
DTEND:20150511T170000Z
LOCATION:Veranstaltungspavillon Ferienpark, Heiligenhafen, Deutschland
SUMMARY:Polizei auf dem Rückzug, Gefahr für Ostholsteins Sicherheit?!
END:VEVENT
END:VCALENDAR
